BEGIN:VCALENDAR
VERSION:2.0
PRODID:-//Schule an der Dorneburg - ECPv6.2.3.2//NONSGML v1.0//EN
CALSCALE:GREGORIAN
METHOD:PUBLISH
X-WR-CALNAME:Schule an der Dorneburg
X-ORIGINAL-URL:https://dorneburg.de
X-WR-CALDESC:Veranstaltungen für Schule an der Dorneburg
REFRESH-INTERVAL;VALUE=DURATION:PT1H
X-Robots-Tag:noindex
X-PUBLISHED-TTL:PT1H
BEGIN:VTIMEZONE
TZID:Europe/Berlin
BEGIN:DAYLIGHT
TZOFFSETFROM:+0100
TZOFFSETTO:+0200
TZNAME:CEST
DTSTART:20260329T010000
END:DAYLIGHT
BEGIN:STANDARD
TZOFFSETFROM:+0200
TZOFFSETTO:+0100
TZNAME:CET
DTSTART:20261025T010000
END:STANDARD
END:VTIMEZONE
BEGIN:VEVENT
DTSTART;VALUE=DATE:20260501
DTEND;VALUE=DATE:20260502
DTSTAMP:20260422T135724
CREATED:20260415T115807Z
LAST-MODIFIED:20260415T115807Z
UID:2443-1777593600-1777679999@dorneburg.de
SUMMARY:schulfrei (Tag der Arbeit)
DESCRIPTION:
URL:https://dorneburg.de/veranstaltung/schulfrei-tag-der-arbeit
CATEGORIES:Feiertag
END:VEVENT
BEGIN:VEVENT
DTSTART;VALUE=DATE:20260514
DTEND;VALUE=DATE:20260515
DTSTAMP:20260422T135724
CREATED:20260115T152619Z
LAST-MODIFIED:20260115T152619Z
UID:2370-1778716800-1778803199@dorneburg.de
SUMMARY:schulfrei (Christi Himmelfahrt)
DESCRIPTION:
URL:https://dorneburg.de/veranstaltung/schulfrei-christi-himmelfahrt-2
CATEGORIES:Feiertag
END:VEVENT
BEGIN:VEVENT
DTSTART;VALUE=DATE:20260604
DTEND;VALUE=DATE:20260605
DTSTAMP:20260422T135724
CREATED:20260115T152700Z
LAST-MODIFIED:20260115T152700Z
UID:2372-1780531200-1780617599@dorneburg.de
SUMMARY:schulfrei (Fronleichnam)
DESCRIPTION:
URL:https://dorneburg.de/veranstaltung/schulfrei-fronleichnam-2
CATEGORIES:Feiertag
END:VEVENT
BEGIN:VEVENT
DTSTART;VALUE=DATE:20260605
DTEND;VALUE=DATE:20260606
DTSTAMP:20260422T135724
CREATED:20260115T152729Z
LAST-MODIFIED:20260115T152729Z
UID:2374-1780617600-1780703999@dorneburg.de
SUMMARY:schulfrei (beweglicher Ferientag)
DESCRIPTION:
URL:https://dorneburg.de/veranstaltung/schulfrei-beweglicher-ferientag-3
CATEGORIES:bewegliche Ferientage
END:VEVENT
BEGIN:VEVENT
DTSTART;TZID=Europe/Berlin:20260710T100000
DTEND;TZID=Europe/Berlin:20260710T113000
DTSTAMP:20260422T135724
CREATED:20260115T152908Z
LAST-MODIFIED:20260115T152908Z
UID:2376-1783677600-1783683000@dorneburg.de
SUMMARY:Entlassfeier
DESCRIPTION:
URL:https://dorneburg.de/veranstaltung/entlassfeier-4
LOCATION:Turnhalle\, Königstraße 72\, 44651 Herne\, Schule an der Dorneburg
END:VEVENT
BEGIN:VEVENT
DTSTART;VALUE=DATE:20260717
DTEND;VALUE=DATE:20260718
DTSTAMP:20260422T135724
CREATED:20260115T153007Z
LAST-MODIFIED:20260115T153007Z
UID:2378-1784246400-1784332799@dorneburg.de
SUMMARY:Zeugnisausgabe/Letzter Schultag
DESCRIPTION:
URL:https://dorneburg.de/veranstaltung/zeugnisausgabe-letzter-schultag-3
LOCATION:Schule\, Königstr. 72\, Herne\, NRW\, 44651\, Deutschland
CATEGORIES:Zeugnisse
END:VEVENT
END:VCALENDAR